BEGIN:VCALENDAR
VERSION:2.0
PRODID:-//LAGFF - Los Angeles Greek Film Festival - ECPv6.15.20//NONSGML v1.0//EN
CALSCALE:GREGORIAN
METHOD:PUBLISH
X-WR-CALNAME:LAGFF - Los Angeles Greek Film Festival
X-ORIGINAL-URL:https://www.lagff.org
X-WR-CALDESC:Events for LAGFF - Los Angeles Greek Film Festival
REFRESH-INTERVAL;VALUE=DURATION:PT1H
X-Robots-Tag:noindex
X-PUBLISHED-TTL:PT1H
BEGIN:VTIMEZONE
TZID:America/Los_Angeles
BEGIN:DAYLIGHT
TZOFFSETFROM:-0800
TZOFFSETTO:-0700
TZNAME:PDT
DTSTART:20250309T100000
END:DAYLIGHT
BEGIN:STANDARD
TZOFFSETFROM:-0700
TZOFFSETTO:-0800
TZNAME:PST
DTSTART:20251102T090000
END:STANDARD
BEGIN:DAYLIGHT
TZOFFSETFROM:-0800
TZOFFSETTO:-0700
TZNAME:PDT
DTSTART:20260308T100000
END:DAYLIGHT
BEGIN:STANDARD
TZOFFSETFROM:-0700
TZOFFSETTO:-0800
TZNAME:PST
DTSTART:20261101T090000
END:STANDARD
BEGIN:DAYLIGHT
TZOFFSETFROM:-0800
TZOFFSETTO:-0700
TZNAME:PDT
DTSTART:20270314T100000
END:DAYLIGHT
BEGIN:STANDARD
TZOFFSETFROM:-0700
TZOFFSETTO:-0800
TZNAME:PST
DTSTART:20271107T090000
END:STANDARD
END:VTIMEZONE
BEGIN:VEVENT
DTSTART;TZID=America/Los_Angeles:20260503T160000
DTEND;TZID=America/Los_Angeles:20260503T180000
DTSTAMP:20260422T155600
CREATED:20260422T102400Z
LAST-MODIFIED:20260422T103136Z
UID:10000026-1777824000-1777831200@www.lagff.org
SUMMARY:ROOSTER
DESCRIPTION:Join us for a pre-festival warm-up screening. \nSynopsis\nA conceited janitor of the Municipality of Athens\, decides to  provide his 6 year old son with the education for the elit and enrolls him in the first grade of a private school. With each step he takes towards the “greek dream” he sinks deeper and deeper into a tragicomic conflict with his close environment and finally with himself. \nEntrance and Parking is free
URL:https://www.lagff.org/event/rooster/
LOCATION:Broccoli Theater at LMU\, 1 LMU Drive\, Los Angeles\, CA\, 90045\, United States
CATEGORIES:Screening
ATTACH;FMTTYPE=image/jpeg:https://www.lagff.org/wp-content/uploads/2026/04/Poster-f29db10186-poster.jpg
ORGANIZER;CN="LAGFF":MAILTO:info@lagff.org
END:VEVENT
BEGIN:VEVENT
DTSTART;TZID=America/Los_Angeles:20260528T200000
DTEND;TZID=America/Los_Angeles:20260529T020000
DTSTAMP:20260422T155600
CREATED:20260422T104003Z
LAST-MODIFIED:20260422T104003Z
UID:10000027-1779998400-1780020000@www.lagff.org
SUMMARY:SCENE AND BE SEEN BASH
DESCRIPTION:More details will be announced soon.
URL:https://www.lagff.org/event/scene-and-be-seen-bash/
LOCATION:The Godfrey Hotel\, 1400 Cahuenga Blvd\, Los Angeles\, CA\, CA 90028\, United States
CATEGORIES:Party
ATTACH;FMTTYPE=image/jpeg:https://www.lagff.org/wp-content/uploads/2026/04/scene-and-be-seen-2026.jpg
ORGANIZER;CN="LAGFF":MAILTO:info@lagff.org
END:VEVENT
END:VCALENDAR