BEGIN:VCALENDAR
VERSION:2.0
PRODID:-//LAGFF - Los Angeles Greek Film Festival - ECPv6.15.20//NONSGML v1.0//EN
CALSCALE:GREGORIAN
METHOD:PUBLISH
X-ORIGINAL-URL:https://www.lagff.org
X-WR-CALDESC:Events for LAGFF - Los Angeles Greek Film Festival
REFRESH-INTERVAL;VALUE=DURATION:PT1H
X-Robots-Tag:noindex
X-PUBLISHED-TTL:PT1H
BEGIN:VTIMEZONE
TZID:America/Los_Angeles
BEGIN:DAYLIGHT
TZOFFSETFROM:-0800
TZOFFSETTO:-0700
TZNAME:PDT
DTSTART:20250309T100000
END:DAYLIGHT
BEGIN:STANDARD
TZOFFSETFROM:-0700
TZOFFSETTO:-0800
TZNAME:PST
DTSTART:20251102T090000
END:STANDARD
BEGIN:DAYLIGHT
TZOFFSETFROM:-0800
TZOFFSETTO:-0700
TZNAME:PDT
DTSTART:20260308T100000
END:DAYLIGHT
BEGIN:STANDARD
TZOFFSETFROM:-0700
TZOFFSETTO:-0800
TZNAME:PST
DTSTART:20261101T090000
END:STANDARD
BEGIN:DAYLIGHT
TZOFFSETFROM:-0800
TZOFFSETTO:-0700
TZNAME:PDT
DTSTART:20270314T100000
END:DAYLIGHT
BEGIN:STANDARD
TZOFFSETFROM:-0700
TZOFFSETTO:-0800
TZNAME:PST
DTSTART:20271107T090000
END:STANDARD
END:VTIMEZONE
BEGIN:VEVENT
DTSTART;TZID=America/Los_Angeles:20260201T100000
DTEND;TZID=America/Los_Angeles:20260201T120000
DTSTAMP:20260422T160330
CREATED:20260126T090953Z
LAST-MODIFIED:20260201T080528Z
UID:10000024-1769940000-1769947200@www.lagff.org
SUMMARY:Online Panel Discussion: Understanding American Demand for Mediterranean Narratives
DESCRIPTION:Participants to be announced\nModerator: Photini Economopoulou\, Hellasdoc Representative \nIn collaboration with Greek Documentary Association (Hellasdoc)\, we will hold an online interactive webinar aiming at elucidating the American documentary place. American representatives of the documentary market will explore potential US interest for Mediterranean storytelling in general and Greece’s rich historical and cultural themes in particular. The speakers will address current trends in the American nonfiction market and international acquisitions in reference to themes and perspectives that can successfully cross cultural and commercial barriers\, offering practical insights on positioning stories as well as building partnerships that strengthen bilateral collaborations. While the panel discussion is designed for documentary creators and producers seeking to enter the American documentary landscape\, it will be free and open to students and the general public. \n\nPhotini Economopoulou (moderator) is a film producer with a background in Sociology and an MA in European Audiovisual Production Management (MBS\, Spain). Founder of Oh My Dog Productions\, founding member and former Vice President of the Greek Documentary Association (Hellasdoc)\, and member of the Greek Film Academy. Recent credits include LENAKI – TWO FIRES AND TWO CURSES (dir. Dimitris Indares) and LAUGHING IN AFGHANISTAN (dir. Annetta Papathanasiou). Her productions have received significant recognition\, including ARMWRESTLER (dir. Giorgos Goussis)\, winner of the IRIS Award for Best Documentary Feature (2023) and three awards at Thessaloniki International Film Festival. The ERT2 series VANLIFE was selected among the top 17 innovative projects at the EBU Creative Forum. She previously spent 12 years at Cinegram\, contributing to numerous award-winning films and international cultural productions\, and has taught filmmaking seminars and workshops in academic and professional contexts.
URL:https://www.lagff.org/event/online-panel-discussion-understanding-american-demand-for-mediterranean-narratives/
CATEGORIES:Zoom Panel
ATTACH;FMTTYPE=image/jpeg:https://www.lagff.org/wp-content/uploads/2026/01/online-discussion.jpg
ORGANIZER;CN="LAGFF":MAILTO:info@lagff.org
END:VEVENT
END:VCALENDAR