BEGIN:VCALENDAR
VERSION:2.0
PRODID:-//LAGFF - Los Angeles Greek Film Festival - ECPv6.15.20//NONSGML v1.0//EN
CALSCALE:GREGORIAN
METHOD:PUBLISH
X-ORIGINAL-URL:https://www.lagff.org
X-WR-CALDESC:Events for LAGFF - Los Angeles Greek Film Festival
REFRESH-INTERVAL;VALUE=DURATION:PT1H
X-Robots-Tag:noindex
X-PUBLISHED-TTL:PT1H
BEGIN:VTIMEZONE
TZID:America/Los_Angeles
BEGIN:DAYLIGHT
TZOFFSETFROM:-0800
TZOFFSETTO:-0700
TZNAME:PDT
DTSTART:20250309T100000
END:DAYLIGHT
BEGIN:STANDARD
TZOFFSETFROM:-0700
TZOFFSETTO:-0800
TZNAME:PST
DTSTART:20251102T090000
END:STANDARD
BEGIN:DAYLIGHT
TZOFFSETFROM:-0800
TZOFFSETTO:-0700
TZNAME:PDT
DTSTART:20260308T100000
END:DAYLIGHT
BEGIN:STANDARD
TZOFFSETFROM:-0700
TZOFFSETTO:-0800
TZNAME:PST
DTSTART:20261101T090000
END:STANDARD
BEGIN:DAYLIGHT
TZOFFSETFROM:-0800
TZOFFSETTO:-0700
TZNAME:PDT
DTSTART:20270314T100000
END:DAYLIGHT
BEGIN:STANDARD
TZOFFSETFROM:-0700
TZOFFSETTO:-0800
TZNAME:PST
DTSTART:20271107T090000
END:STANDARD
END:VTIMEZONE
BEGIN:VEVENT
DTSTART;TZID=America/Los_Angeles:20260131T110000
DTEND;TZID=America/Los_Angeles:20260131T110000
DTSTAMP:20260425T032820
CREATED:20260112T191853Z
LAST-MODIFIED:20260114T105341Z
UID:10000023-1769857200-1769857200@www.lagff.org
SUMMARY:All that jam
DESCRIPTION:In Corfu\, three musicians\, friends\, fellow students and roommates\, experience life through music. The power of their musical improvisation transforms into a youthful and fresh improvisation on life itself.
URL:https://www.lagff.org/event/all-that-jam/
LOCATION:Broccoli Theater at LMU\, 1 LMU Drive\, Los Angeles\, CA\, 90045\, United States
CATEGORIES:Short
ATTACH;FMTTYPE=image/jpeg:https://www.lagff.org/wp-content/uploads/2026/01/still_all_that_jam_3-1.jpg
ORGANIZER;CN="LAGFF":MAILTO:info@lagff.org
END:VEVENT
BEGIN:VEVENT
DTSTART;TZID=America/Los_Angeles:20260131T163000
DTEND;TZID=America/Los_Angeles:20260131T163000
DTSTAMP:20260425T032820
CREATED:20260112T191853Z
LAST-MODIFIED:20260114T105238Z
UID:10000021-1769877000-1769877000@www.lagff.org
SUMMARY:Change Makers
DESCRIPTION:Lefteris Arapakis was born to be a 6th generation fisherman in Greece. Instead\, he started the country’s first-ever fishing school\, training fishermen to remove plastic garbage from local waters and convincing this ancient profession – including his own family – of the need to protect the Mediterranean Sea and beyond. Lefteris is the first of six young climate activists\, our Change Makers\, to be featured in a docuseries of the same name. Together\, they are tackling the biggest issue of our time – the race against climate catastrophe – as they transform their individual communities and inspire people with their innovation\, persistence\, and grace.
URL:https://www.lagff.org/event/change-makers/
LOCATION:Broccoli Theater at LMU\, 1 LMU Drive\, Los Angeles\, CA\, 90045\, United States
CATEGORIES:Short
ATTACH;FMTTYPE=image/jpeg:https://www.lagff.org/wp-content/uploads/2026/01/ChangeMakers_1-1.jpg
ORGANIZER;CN="LAGFF":MAILTO:info@lagff.org
END:VEVENT
BEGIN:VEVENT
DTSTART;TZID=America/Los_Angeles:20260131T190000
DTEND;TZID=America/Los_Angeles:20260131T190000
DTSTAMP:20260425T032820
CREATED:20260112T191853Z
LAST-MODIFIED:20260120T221557Z
UID:10000017-1769886000-1769886000@www.lagff.org
SUMMARY:At the market (Sto Pazari)
DESCRIPTION:The film follows three characters-people of the open-air markets-within their working environment. An observational portrait capturing their personalities\, their surroundings\, and the ways in which they interact with them.
URL:https://www.lagff.org/event/at-the-market-sto-pazari/
LOCATION:Broccoli Theater at LMU\, 1 LMU Drive\, Los Angeles\, CA\, 90045\, United States
CATEGORIES:Short
ATTACH;FMTTYPE=image/jpeg:https://www.lagff.org/wp-content/uploads/2026/01/Photo-3-1.40.1_1.40.1-1.jpg
ORGANIZER;CN="LAGFF":MAILTO:info@lagff.org
END:VEVENT
END:VCALENDAR