BEGIN:VCALENDAR
VERSION:2.0
PRODID:-//LAGFF - Los Angeles Greek Film Festival - ECPv6.15.20//NONSGML v1.0//EN
CALSCALE:GREGORIAN
METHOD:PUBLISH
X-WR-CALNAME:LAGFF - Los Angeles Greek Film Festival
X-ORIGINAL-URL:https://www.lagff.org
X-WR-CALDESC:Events for LAGFF - Los Angeles Greek Film Festival
REFRESH-INTERVAL;VALUE=DURATION:PT1H
X-Robots-Tag:noindex
X-PUBLISHED-TTL:PT1H
BEGIN:VTIMEZONE
TZID:America/Los_Angeles
BEGIN:DAYLIGHT
TZOFFSETFROM:-0800
TZOFFSETTO:-0700
TZNAME:PDT
DTSTART:20250309T100000
END:DAYLIGHT
BEGIN:STANDARD
TZOFFSETFROM:-0700
TZOFFSETTO:-0800
TZNAME:PST
DTSTART:20251102T090000
END:STANDARD
BEGIN:DAYLIGHT
TZOFFSETFROM:-0800
TZOFFSETTO:-0700
TZNAME:PDT
DTSTART:20260308T100000
END:DAYLIGHT
BEGIN:STANDARD
TZOFFSETFROM:-0700
TZOFFSETTO:-0800
TZNAME:PST
DTSTART:20261101T090000
END:STANDARD
BEGIN:DAYLIGHT
TZOFFSETFROM:-0800
TZOFFSETTO:-0700
TZNAME:PDT
DTSTART:20270314T100000
END:DAYLIGHT
BEGIN:STANDARD
TZOFFSETFROM:-0700
TZOFFSETTO:-0800
TZNAME:PST
DTSTART:20271107T090000
END:STANDARD
END:VTIMEZONE
BEGIN:VEVENT
DTSTART;TZID=America/Los_Angeles:20260201T160000
DTEND;TZID=America/Los_Angeles:20260201T160000
DTSTAMP:20260422T132427
CREATED:20260112T191853Z
LAST-MODIFIED:20260114T104933Z
UID:10000006-1769961600-1769961600@www.lagff.org
SUMMARY:The Stuff We Are Made Of (Apo Ti Eimaste Ftiagmenoi)
DESCRIPTION:An exploration of love and the erotic body through the lens of disability. Aris\, a young ambitious paraplegic man sets out to investigate the erotic lives of disabled people in Greece. As a psychology student\, his dissertation is an exceptional study on stereotypes surrounding the sex life of disabled people in the country\, a subject that has been a taboo for many years. But his real search is to find answers to his own personal questions about complexities of sexual attraction\, intimacy and ultimately the mystery of love. He interviews experts and talks to interabled couples; He visits sexual assistants and erotic festivals; He uses dating applications and attends accessible parties. As his quest continues\, a fascinating picture of love and Eros is formed through a mosaic of different characters and their romantic lives.
URL:https://www.lagff.org/event/the-stuff-we-are-made-of-apo-ti-eimaste-ftiagmenoi/
LOCATION:Broccoli Theater at LMU\, 1 LMU Drive\, Los Angeles\, CA\, 90045\, United States
CATEGORIES:Feature
ATTACH;FMTTYPE=image/jpeg:https://www.lagff.org/wp-content/uploads/2026/01/FILM-POSTER_A1-1.jpg
ORGANIZER;CN="LAGFF":MAILTO:info@lagff.org
END:VEVENT
BEGIN:VEVENT
DTSTART;TZID=America/Los_Angeles:20260201T131500
DTEND;TZID=America/Los_Angeles:20260201T131500
DTSTAMP:20260422T132427
CREATED:20260112T191853Z
LAST-MODIFIED:20260130T102118Z
UID:10000013-1769951700-1769951700@www.lagff.org
SUMMARY:The Art Of Remembering
DESCRIPTION:​Visual artist Artemis Alcalay unpacks her family’s hidden past — weaving together personal narrative\, Holocaust memory\, and collective trauma through her powerful body of work. As she creates\, she reflects: How much of our inheritance is spoken? How much do we carry without knowing? An intimate\, artistic journey through memory\, trauma\, and healing. Through art\, Artemis confronts silence — and transforms it.
URL:https://www.lagff.org/event/the-art-of-remembering/
LOCATION:Broccoli Theater at LMU\, 1 LMU Drive\, Los Angeles\, CA\, 90045\, United States
CATEGORIES:Feature
ATTACH;FMTTYPE=image/jpeg:https://www.lagff.org/wp-content/uploads/2026/01/Photo-1-4._The_Art_of_Remembering_.jpg
ORGANIZER;CN="LAGFF":MAILTO:info@lagff.org
END:VEVENT
BEGIN:VEVENT
DTSTART;TZID=America/Los_Angeles:20260201T113000
DTEND;TZID=America/Los_Angeles:20260201T113000
DTSTAMP:20260422T132427
CREATED:20260112T191853Z
LAST-MODIFIED:20260114T105104Z
UID:10000009-1769945400-1769945400@www.lagff.org
SUMMARY:Breaking Ground - Reinventing an island  (E apoasylopoiisi enos nisiou)
DESCRIPTION:​In the 1990s the island of Leros became famous for the wrong reasons: an international outcry concerning the infamous psychiatric asylum. The psychiatric reform that followed impacted the whole island.
URL:https://www.lagff.org/event/breaking-ground-reinventing-an-island-e-apoasylopoiisi-enos-nisiou/
LOCATION:Broccoli Theater at LMU\, 1 LMU Drive\, Los Angeles\, CA\, 90045\, United States
CATEGORIES:Feature
ATTACH;FMTTYPE=image/jpeg:https://www.lagff.org/wp-content/uploads/2026/01/vlcsnap-2026-01-05-17h37m04s280-1.jpg
ORGANIZER;CN="LAGFF":MAILTO:info@lagff.org
END:VEVENT
BEGIN:VEVENT
DTSTART;TZID=America/Los_Angeles:20260131T190000
DTEND;TZID=America/Los_Angeles:20260131T190000
DTSTAMP:20260422T132427
CREATED:20260112T191853Z
LAST-MODIFIED:20260114T105152Z
UID:10000014-1769886000-1769886000@www.lagff.org
SUMMARY:Lo (Λο)
DESCRIPTION:After the directors’ mother’s death\, he returns to his empty childhood apartment to handle a troubled inheritance. As he navigates its spaces\, fragments of memories resurface\, entwining the past with the Greek Junta’s collective trauma.
URL:https://www.lagff.org/event/lo-lo/
LOCATION:Broccoli Theater at LMU\, 1 LMU Drive\, Los Angeles\, CA\, 90045\, United States
CATEGORIES:Feature
ATTACH;FMTTYPE=image/jpeg:https://www.lagff.org/wp-content/uploads/2026/01/Photo-3-STILL_LO_2-1.jpg
ORGANIZER;CN="LAGFF":MAILTO:info@lagff.org
END:VEVENT
BEGIN:VEVENT
DTSTART;TZID=America/Los_Angeles:20260131T163000
DTEND;TZID=America/Los_Angeles:20260131T163000
DTSTAMP:20260422T132427
CREATED:20260112T191853Z
LAST-MODIFIED:20260114T105224Z
UID:10000010-1769877000-1769877000@www.lagff.org
SUMMARY:Mankind's Folly
DESCRIPTION:​From both ends of the Arctic\, Nikita in Siberia and Martha in Alaska send a distress signal as the ground sinks beneath their feet and fossil fuel companies greedily expand into the far north.
URL:https://www.lagff.org/event/mankinds-folly/
LOCATION:Broccoli Theater at LMU\, 1 LMU Drive\, Los Angeles\, CA\, 90045\, United States
CATEGORIES:Feature
ATTACH;FMTTYPE=image/jpeg:https://www.lagff.org/wp-content/uploads/2026/01/18-1.jpg
ORGANIZER;CN="LAGFF":MAILTO:info@lagff.org
END:VEVENT
BEGIN:VEVENT
DTSTART;TZID=America/Los_Angeles:20260131T140000
DTEND;TZID=America/Los_Angeles:20260131T140000
DTSTAMP:20260422T132427
CREATED:20260112T191853Z
LAST-MODIFIED:20260114T105250Z
UID:10000007-1769868000-1769868000@www.lagff.org
SUMMARY:Waves Won't Stop (Aenaa Kymata)
DESCRIPTION:An experimental documentary in which the narrator evokes his childhood memories of Cyprus\, and his connection to an indelible friendship defined by separation. Through vivid recollections of their lost bond\, he explores themes of longing\, belonging\, and on the enduring pull of his homeland that shaped them both.
URL:https://www.lagff.org/event/waves-wont-stop-aenaa-kymata/
LOCATION:Broccoli Theater at LMU\, 1 LMU Drive\, Los Angeles\, CA\, 90045\, United States
CATEGORIES:Feature
ATTACH;FMTTYPE=image/jpeg:https://www.lagff.org/wp-content/uploads/2026/01/WAVES_Children-Dancing-2-1.jpg
ORGANIZER;CN="LAGFF":MAILTO:info@lagff.org
END:VEVENT
BEGIN:VEVENT
DTSTART;TZID=America/Los_Angeles:20260131T140000
DTEND;TZID=America/Los_Angeles:20260131T140000
DTSTAMP:20260422T132427
CREATED:20260112T191853Z
LAST-MODIFIED:20260114T105305Z
UID:10000008-1769868000-1769868000@www.lagff.org
SUMMARY:When The Swallows Fall Silent  (Otan Sigoun Ta Xelidonia)
DESCRIPTION:​In a rapidly changing old city\, a heartfelt narrative unfolds around the historic Faneromeni School and the iconic Mattheo’s restaurant where the history and cherished traditions of the past collide with the pressures of modernization. It’s a fight against the odds in a neighborhood that is no longer the same.
URL:https://www.lagff.org/event/when-the-swallows-fall-silent-otan-sigoun-ta-xelidonia/
LOCATION:Broccoli Theater at LMU\, 1 LMU Drive\, Los Angeles\, CA\, 90045\, United States
CATEGORIES:Feature
ATTACH;FMTTYPE=image/jpeg:https://www.lagff.org/wp-content/uploads/2026/01/OTAN-SIGOUN-TA-XELIDONIA-STILL-3-1.jpg
ORGANIZER;CN="LAGFF":MAILTO:info@lagff.org
END:VEVENT
BEGIN:VEVENT
DTSTART;TZID=America/Los_Angeles:20260131T124500
DTEND;TZID=America/Los_Angeles:20260131T124500
DTSTAMP:20260422T132427
CREATED:20260112T191853Z
LAST-MODIFIED:20260122T195320Z
UID:10000016-1769863500-1769863500@www.lagff.org
SUMMARY:A Clown Girl
DESCRIPTION:Clowning\, comedy\, and dance helped her regain her strength. She shares her inspiring story\, saying\, “If we consider that speaking up can help others\, maybe this can combat the fear that arises.”
URL:https://www.lagff.org/event/a-clown-girl/
LOCATION:Broccoli Theater at LMU\, 1 LMU Drive\, Los Angeles\, CA\, 90045\, United States
CATEGORIES:Feature
ATTACH;FMTTYPE=image/jpeg:https://www.lagff.org/wp-content/uploads/2026/01/Girl_on-the-field-copy-2-1.jpg
ORGANIZER;CN="LAGFF":MAILTO:info@lagff.org
END:VEVENT
BEGIN:VEVENT
DTSTART;TZID=America/Los_Angeles:20260131T110000
DTEND;TZID=America/Los_Angeles:20260131T110000
DTSTAMP:20260422T132427
CREATED:20260112T191853Z
LAST-MODIFIED:20260127T200328Z
UID:10000004-1769857200-1769857200@www.lagff.org
SUMMARY:The Luthier
DESCRIPTION:A Greek luthier from a small village in Serres\, known for crafting some of the world’s finest flamenco guitars\, dreams of creating the first international flamenco festival in his hometown. In a place where flamenco is virtually unknown\, his passion—shared with a close circle of artist friends—bridges cultures\, traditions\, and distances.A poetic documentary blending reality\, fiction\, and history\, following a journey from rural Greece to international stages and back\, driven by creativity\, friendship\, and the power of music..
URL:https://www.lagff.org/event/the-luthier/
LOCATION:Broccoli Theater at LMU\, 1 LMU Drive\, Los Angeles\, CA\, 90045\, United States
CATEGORIES:Feature
ATTACH;FMTTYPE=image/jpeg:https://www.lagff.org/wp-content/uploads/2026/01/THE-LUTHIER_Main-Hero-1.jpg
ORGANIZER;CN="LAGFF":MAILTO:info@lagff.org
END:VEVENT
BEGIN:VEVENT
DTSTART;TZID=America/Los_Angeles:20260130T200000
DTEND;TZID=America/Los_Angeles:20260130T200000
DTSTAMP:20260422T132427
CREATED:20260112T191853Z
LAST-MODIFIED:20260114T105352Z
UID:10000012-1769803200-1769803200@www.lagff.org
SUMMARY:In the image of Human (Kat’ Ikona Tou Anthropou)
DESCRIPTION:What does spirit mean? And how interested are scientists in building an artificial consciousness? We present the reflection of Orthodoxy around the world on AI\, the debate and controversies it raises\, and the attempt to answer the most basic questions raised by the development of AI.
URL:https://www.lagff.org/event/in-the-image-of-human-kat-ikona-tou-anthropou/
LOCATION:The Gianopulos Family Theater\, 1324 S. Normandie Avenue\, Los Angeles\, CA\, 90006\, United States
CATEGORIES:Feature
ATTACH;FMTTYPE=image/jpeg:https://www.lagff.org/wp-content/uploads/2026/01/In-the-Image-of-Human-C-1.jpg
ORGANIZER;CN="LAGFF":MAILTO:info@lagff.org
END:VEVENT
BEGIN:VEVENT
DTSTART;TZID=America/Los_Angeles:20260130T173000
DTEND;TZID=America/Los_Angeles:20260130T173000
DTSTAMP:20260422T132427
CREATED:20260112T191853Z
LAST-MODIFIED:20260122T195416Z
UID:10000011-1769794200-1769794200@www.lagff.org
SUMMARY:Light of Cappadocia: Saints Arsenios & Paisios  (Fos Kappadokias: Agioi Arsenios kai Paisios)
DESCRIPTION:​The documentary “Light of Cappadocia” follows a captivating journey in the footsteps of the two most recent Saints of the Orthodox Church\, Saint Arsenios the Cappadocian and Saint Paisios the Athonite. Traveling from Farasa in Cappadocia to Mount Athos\, two monks revive their sacred legacy\, revealing the resilience of faith through prayer\, trials\, and miracles. The film weaves together archival material\, testimonies of believers and monks\, and stunning cinematic images from Farasa (Cappadocia) and Greece\, bringing to light narratives and information presented for the first time. Through this multi-layered storytelling and the eyes of its protagonists\, the lives of the two most recent Saints of Orthodoxy unfold before us\, inviting the viewer into a journey of faith\, miracles\, and reflection.
URL:https://www.lagff.org/event/light-of-cappadocia-saints-arsenios-paisios-fos-kappadokias-agioi-arsenios-kai-paisios/
LOCATION:The Gianopulos Family Theater\, 1324 S. Normandie Avenue\, Los Angeles\, CA\, 90006\, United States
CATEGORIES:Feature
ATTACH;FMTTYPE=image/jpeg:https://www.lagff.org/wp-content/uploads/2026/01/Στιγμιότυπο-οθόνης-152-1.jpg
ORGANIZER;CN="LAGFF":MAILTO:info@lagff.org
END:VEVENT
BEGIN:VEVENT
DTSTART;TZID=America/Los_Angeles:20260130T160000
DTEND;TZID=America/Los_Angeles:20260130T170000
DTSTAMP:20260422T132427
CREATED:20260112T191853Z
LAST-MODIFIED:20260114T105418Z
UID:10000015-1769788800-1769792400@www.lagff.org
SUMMARY:The Charcoal Makers of Ikaria Island  (Oi Karvouniarides Tis Ikarias)
DESCRIPTION:The history and craft of Ikaria’s charcoal makers\, blending testimonies\, tradition\, and Greece’s past.
URL:https://www.lagff.org/event/the-charcoal-makers-of-ikaria-island-oi-karvouniarides-tis-ikarias/
LOCATION:The Gianopulos Family Theater\, 1324 S. Normandie Avenue\, Los Angeles\, CA\, 90006\, United States
CATEGORIES:Feature
ATTACH;FMTTYPE=image/jpeg:https://www.lagff.org/wp-content/uploads/2026/01/Photo-2-01-1.jpg
ORGANIZER;CN="LAGFF":MAILTO:info@lagff.org
END:VEVENT
BEGIN:VEVENT
DTSTART;TZID=America/Los_Angeles:20260130T140000
DTEND;TZID=America/Los_Angeles:20260130T140000
DTSTAMP:20260422T132427
CREATED:20260112T191853Z
LAST-MODIFIED:20260127T200210Z
UID:10000005-1769781600-1769781600@www.lagff.org
SUMMARY:The goals of August (Ta Termata tou Avgoustou)
DESCRIPTION:An impromptu football tournament in the abandoned villages of the southern Pindos mountains\, in Greece reveals the fascinating aliveness of a small community.
URL:https://www.lagff.org/event/the-goals-of-august-ta-termata-tou-avgoustou/
LOCATION:The Gianopulos Family Theater\, 1324 S. Normandie Avenue\, Los Angeles\, CA\, 90006\, United States
CATEGORIES:Feature
ATTACH;FMTTYPE=image/jpeg:https://www.lagff.org/wp-content/uploads/2026/01/Photo-4-Still_2025-01-10_003020_1.266.1-1.jpg
ORGANIZER;CN="LAGFF":MAILTO:info@lagff.org
END:VEVENT
END:VCALENDAR