BEGIN:VCALENDAR
VERSION:2.0
PRODID:-//LAGFF - Los Angeles Greek Film Festival - ECPv6.15.20//NONSGML v1.0//EN
CALSCALE:GREGORIAN
METHOD:PUBLISH
X-WR-CALNAME:LAGFF - Los Angeles Greek Film Festival
X-ORIGINAL-URL:https://www.lagff.org
X-WR-CALDESC:Events for LAGFF - Los Angeles Greek Film Festival
REFRESH-INTERVAL;VALUE=DURATION:PT1H
X-Robots-Tag:noindex
X-PUBLISHED-TTL:PT1H
BEGIN:VTIMEZONE
TZID:America/Los_Angeles
BEGIN:DAYLIGHT
TZOFFSETFROM:-0800
TZOFFSETTO:-0700
TZNAME:PDT
DTSTART:20250309T100000
END:DAYLIGHT
BEGIN:STANDARD
TZOFFSETFROM:-0700
TZOFFSETTO:-0800
TZNAME:PST
DTSTART:20251102T090000
END:STANDARD
BEGIN:DAYLIGHT
TZOFFSETFROM:-0800
TZOFFSETTO:-0700
TZNAME:PDT
DTSTART:20260308T100000
END:DAYLIGHT
BEGIN:STANDARD
TZOFFSETFROM:-0700
TZOFFSETTO:-0800
TZNAME:PST
DTSTART:20261101T090000
END:STANDARD
BEGIN:DAYLIGHT
TZOFFSETFROM:-0800
TZOFFSETTO:-0700
TZNAME:PDT
DTSTART:20270314T100000
END:DAYLIGHT
BEGIN:STANDARD
TZOFFSETFROM:-0700
TZOFFSETTO:-0800
TZNAME:PST
DTSTART:20271107T090000
END:STANDARD
END:VTIMEZONE
BEGIN:VEVENT
DTSTART;TZID=America/Los_Angeles:20260201T193000
DTEND;TZID=America/Los_Angeles:20260201T213000
DTSTAMP:20260422T130754
CREATED:20260127T080547Z
LAST-MODIFIED:20260127T200414Z
UID:10000025-1769974200-1769981400@www.lagff.org
SUMMARY:Orpheus Awards and Closing Night Reception
DESCRIPTION:Admission includes the Awards Ceremony and the reception that follows \n7:30 PM | Broccoli Theater\nLAGFF-doc Awards Ceremony\nOrpheus Awards for Best Feature Documentary\, Best Short Documentary\, Audience Awards\, and the inaugural LMU Prize for Social Justice \n8:30 PM | Collins Center\nReception following the awards ceremony at the nearby Collins Center \n.
URL:https://www.lagff.org/event/orpheus-awards-and-closing-night-reception/
LOCATION:Broccoli Theater at LMU\, 1 LMU Drive\, Los Angeles\, CA\, 90045\, United States
CATEGORIES:Awards Ceremony
ATTACH;FMTTYPE=image/jpeg:https://www.lagff.org/wp-content/uploads/2026/01/orpheus-awards.jpg
ORGANIZER;CN="LAGFF":MAILTO:info@lagff.org
END:VEVENT
END:VCALENDAR