BEGIN:VCALENDAR
VERSION:2.0
PRODID:-//LAGFF - Los Angeles Greek Film Festival - ECPv6.15.20//NONSGML v1.0//EN
CALSCALE:GREGORIAN
METHOD:PUBLISH
X-WR-CALNAME:LAGFF - Los Angeles Greek Film Festival
X-ORIGINAL-URL:https://www.lagff.org
X-WR-CALDESC:Events for LAGFF - Los Angeles Greek Film Festival
REFRESH-INTERVAL;VALUE=DURATION:PT1H
X-Robots-Tag:noindex
X-PUBLISHED-TTL:PT1H
BEGIN:VTIMEZONE
TZID:America/Los_Angeles
BEGIN:DAYLIGHT
TZOFFSETFROM:-0800
TZOFFSETTO:-0700
TZNAME:PDT
DTSTART:20250309T100000
END:DAYLIGHT
BEGIN:STANDARD
TZOFFSETFROM:-0700
TZOFFSETTO:-0800
TZNAME:PST
DTSTART:20251102T090000
END:STANDARD
BEGIN:DAYLIGHT
TZOFFSETFROM:-0800
TZOFFSETTO:-0700
TZNAME:PDT
DTSTART:20260308T100000
END:DAYLIGHT
BEGIN:STANDARD
TZOFFSETFROM:-0700
TZOFFSETTO:-0800
TZNAME:PST
DTSTART:20261101T090000
END:STANDARD
BEGIN:DAYLIGHT
TZOFFSETFROM:-0800
TZOFFSETTO:-0700
TZNAME:PDT
DTSTART:20270314T100000
END:DAYLIGHT
BEGIN:STANDARD
TZOFFSETFROM:-0700
TZOFFSETTO:-0800
TZNAME:PST
DTSTART:20271107T090000
END:STANDARD
END:VTIMEZONE
BEGIN:VEVENT
DTSTART;TZID=America/Los_Angeles:20260130T160000
DTEND;TZID=America/Los_Angeles:20260130T170000
DTSTAMP:20260422T110318
CREATED:20260112T191853Z
LAST-MODIFIED:20260114T105418Z
UID:40826-1769788800-1769792400@www.lagff.org
SUMMARY:The Charcoal Makers of Ikaria Island  (Oi Karvouniarides Tis Ikarias)
DESCRIPTION:The history and craft of Ikaria’s charcoal makers\, blending testimonies\, tradition\, and Greece’s past.
URL:https://www.lagff.org/event/the-charcoal-makers-of-ikaria-island-oi-karvouniarides-tis-ikarias/
LOCATION:The Gianopulos Family Theater\, 1324 S. Normandie Avenue\, Los Angeles\, CA\, 90006\, United States
CATEGORIES:Feature
ATTACH;FMTTYPE=image/jpeg:https://www.lagff.org/wp-content/uploads/2026/01/Photo-2-01-1.jpg
ORGANIZER;CN="LAGFF":MAILTO:info@lagff.org
END:VEVENT
END:VCALENDAR