BEGIN:VCALENDAR
VERSION:2.0
PRODID:-//LAGFF - Los Angeles Greek Film Festival - ECPv6.15.20//NONSGML v1.0//EN
CALSCALE:GREGORIAN
METHOD:PUBLISH
X-WR-CALNAME:LAGFF - Los Angeles Greek Film Festival
X-ORIGINAL-URL:https://www.lagff.org
X-WR-CALDESC:Events for LAGFF - Los Angeles Greek Film Festival
REFRESH-INTERVAL;VALUE=DURATION:PT1H
X-Robots-Tag:noindex
X-PUBLISHED-TTL:PT1H
BEGIN:VTIMEZONE
TZID:America/Los_Angeles
BEGIN:DAYLIGHT
TZOFFSETFROM:-0800
TZOFFSETTO:-0700
TZNAME:PDT
DTSTART:20250309T100000
END:DAYLIGHT
BEGIN:STANDARD
TZOFFSETFROM:-0700
TZOFFSETTO:-0800
TZNAME:PST
DTSTART:20251102T090000
END:STANDARD
BEGIN:DAYLIGHT
TZOFFSETFROM:-0800
TZOFFSETTO:-0700
TZNAME:PDT
DTSTART:20260308T100000
END:DAYLIGHT
BEGIN:STANDARD
TZOFFSETFROM:-0700
TZOFFSETTO:-0800
TZNAME:PST
DTSTART:20261101T090000
END:STANDARD
BEGIN:DAYLIGHT
TZOFFSETFROM:-0800
TZOFFSETTO:-0700
TZNAME:PDT
DTSTART:20270314T100000
END:DAYLIGHT
BEGIN:STANDARD
TZOFFSETFROM:-0700
TZOFFSETTO:-0800
TZNAME:PST
DTSTART:20271107T090000
END:STANDARD
END:VTIMEZONE
BEGIN:VEVENT
DTSTART;TZID=America/Los_Angeles:20260201T183000
DTEND;TZID=America/Los_Angeles:20260201T183000
DTSTAMP:20260422T103652
CREATED:20260112T191853Z
LAST-MODIFIED:20260126T093916Z
UID:40835-1769970600-1769970600@www.lagff.org
SUMMARY:Guardians of Hellenism: The Ecumenical Patriarchate of Constantinople
DESCRIPTION:The relationship between Christianity and Hellenism through the contributions of the Ecumenical Patriarchate of Constantinople and individual Patriarchs to the Greek language\, education\, and philosophy. The film shows that\, despite common misconceptions\, Christianity was a major contributor to the survival of Ancient Greek culture\, as intellectuals and institutions – many of them affiliated with the Patriarchate- adopted the aesthetic values of pagan literature and employed concepts of Platonic and Aristotelian philosophy to articulate Christian doctrine. This provided a cultural continuity that helped the survival of Greek thought and language\, contributed to the Renaissance\, and became a steady reference point for Greek and Orthodox communities in Greece and around the world.
URL:https://www.lagff.org/event/guardians-of-hellenism-the-ecumenical-patriarchate-of-constantinople/
LOCATION:Broccoli Theater at LMU\, 1 LMU Drive\, Los Angeles\, CA\, 90045\, United States
CATEGORIES:Short
ATTACH;FMTTYPE=image/jpeg:https://www.lagff.org/wp-content/uploads/2026/01/Photo-1-Photius1-64026-1.jpg
ORGANIZER;CN="LAGFF":MAILTO:info@lagff.org
END:VEVENT
END:VCALENDAR